BEGIN:VCALENDAR
VERSION:2.0
PRODID:https://www.kufer.de/kuferweb / DE
METHOD:PUBLISH
CALSCALE:GREGORIAN
X-WR-TIMEZONE:Europe/Berlin
BEGIN:VTIMEZONE
TZID:Europe/Berlin
X-LIC-LOCATION:Europe/Berlin
BEGIN:DAYLIGHT
TZOFFSETFROM:+0100
TZOFFSETTO:+0200
TZNAME:CEST
DTSTART:19700329T020000
RRULE:FREQ=YEARLY;INTERVAL=1;BYDAY=-1SU;BYMONTH=3
END:DAYLIGHT
BEGIN:STANDARD
TZOFFSETFROM:+0200
TZOFFSETTO:+0100
TZNAME:CET
DTSTART:19701025T030000
RRULE:FREQ=YEARLY;INTERVAL=1;BYDAY=-1SU;BYMONTH=10
END:STANDARD
END:VTIMEZONE
BEGIN:VEVENT
DTSTAMP:20260424T130309
DTSTART;TZID=Europe/Berlin:20260428T140000
DTEND;TZID=Europe/Berlin:20260428T161500
UID:26110403U-20260428T140000@VHSOSTKREIS HANNOVER
SUMMARY:Einführung in die Sprinti-App & in die Üstra-App In Kooperation mit der Region Hannover und der ÜSTRA (26110403U) 
LOCATION:Uetze, VHS-Gebäude, Seminarraum 1, Burgdorfer Str. 15, 31311 Uetze
END:VEVENT
END:VCALENDAR