BEGIN:VCALENDAR
VERSION:2.0
PRODID:https://www.kufer.de/kuferweb / DE
METHOD:PUBLISH
CALSCALE:GREGORIAN
X-WR-TIMEZONE:Europe/Berlin
BEGIN:VTIMEZONE
TZID:Europe/Berlin
X-LIC-LOCATION:Europe/Berlin
BEGIN:DAYLIGHT
TZOFFSETFROM:+0100
TZOFFSETTO:+0200
TZNAME:CEST
DTSTART:19700329T020000
RRULE:FREQ=YEARLY;INTERVAL=1;BYDAY=-1SU;BYMONTH=3
END:DAYLIGHT
BEGIN:STANDARD
TZOFFSETFROM:+0200
TZOFFSETTO:+0100
TZNAME:CET
DTSTART:19701025T030000
RRULE:FREQ=YEARLY;INTERVAL=1;BYDAY=-1SU;BYMONTH=10
END:STANDARD
END:VTIMEZONE
BEGIN:VEVENT
DTSTAMP:20260419T170528
DTSTART;TZID=Europe/Berlin:20260520T173000
DTEND;TZID=Europe/Berlin:20260520T203000
UID:26120714I-20260520T173000@VHSOSTKREIS HANNOVER
SUMMARY:Zeichnerische Grundlagen - perspektivisches Zeichnen und plastische Gestaltung (26120714I) 
LOCATION:Isernhagen, VHS-Gebäude, Seminarraum 3, Hannoversche Str. 23, 30916 Isernhagen
END:VEVENT
BEGIN:VEVENT
DTSTAMP:20260419T170528
DTSTART;TZID=Europe/Berlin:20260527T173000
DTEND;TZID=Europe/Berlin:20260527T203000
UID:26120714I-20260527T173000@VHSOSTKREIS HANNOVER
SUMMARY:Zeichnerische Grundlagen - perspektivisches Zeichnen und plastische Gestaltung (26120714I) 
LOCATION:Isernhagen, VHS-Gebäude, Seminarraum 3, Hannoversche Str. 23, 30916 Isernhagen
END:VEVENT
BEGIN:VEVENT
DTSTAMP:20260419T170528
DTSTART;TZID=Europe/Berlin:20260603T173000
DTEND;TZID=Europe/Berlin:20260603T203000
UID:26120714I-20260603T173000@VHSOSTKREIS HANNOVER
SUMMARY:Zeichnerische Grundlagen - perspektivisches Zeichnen und plastische Gestaltung (26120714I) 
LOCATION:Isernhagen, VHS-Gebäude, Seminarraum 3, Hannoversche Str. 23, 30916 Isernhagen
END:VEVENT
BEGIN:VEVENT
DTSTAMP:20260419T170528
DTSTART;TZID=Europe/Berlin:20260610T173000
DTEND;TZID=Europe/Berlin:20260610T203000
UID:26120714I-20260610T173000@VHSOSTKREIS HANNOVER
SUMMARY:Zeichnerische Grundlagen - perspektivisches Zeichnen und plastische Gestaltung (26120714I) 
LOCATION:Isernhagen, VHS-Gebäude, Seminarraum 3, Hannoversche Str. 23, 30916 Isernhagen
END:VEVENT
BEGIN:VEVENT
DTSTAMP:20260419T170528
DTSTART;TZID=Europe/Berlin:20260617T173000
DTEND;TZID=Europe/Berlin:20260617T203000
UID:26120714I-20260617T173000@VHSOSTKREIS HANNOVER
SUMMARY:Zeichnerische Grundlagen - perspektivisches Zeichnen und plastische Gestaltung (26120714I) 
LOCATION:Isernhagen, VHS-Gebäude, Seminarraum 3, Hannoversche Str. 23, 30916 Isernhagen
END:VEVENT
END:VCALENDAR