BEGIN:VCALENDAR
VERSION:2.0
PRODID:https://www.kufer.de/kuferweb / DE
METHOD:PUBLISH
CALSCALE:GREGORIAN
X-WR-TIMEZONE:Europe/Berlin
BEGIN:VTIMEZONE
TZID:Europe/Berlin
X-LIC-LOCATION:Europe/Berlin
BEGIN:DAYLIGHT
TZOFFSETFROM:+0100
TZOFFSETTO:+0200
TZNAME:CEST
DTSTART:19700329T020000
RRULE:FREQ=YEARLY;INTERVAL=1;BYDAY=-1SU;BYMONTH=3
END:DAYLIGHT
BEGIN:STANDARD
TZOFFSETFROM:+0200
TZOFFSETTO:+0100
TZNAME:CET
DTSTART:19701025T030000
RRULE:FREQ=YEARLY;INTERVAL=1;BYDAY=-1SU;BYMONTH=10
END:STANDARD
END:VTIMEZONE
BEGIN:VEVENT
DTSTAMP:20260419T171321
DTSTART;TZID=Europe/Berlin:20260626T173000
DTEND;TZID=Europe/Berlin:20260626T203000
UID:26120715L-20260626T173000@VHSOSTKREIS HANNOVER
SUMMARY:Landschaften in Acryl Ein Wochenendseminar für Anfänger*innen und Fortgeschrittene (26120715L) 
LOCATION:Lehrte, VHS-Gebäude, Werkraum, Rathausplatz 2, 31275 Lehrte
END:VEVENT
BEGIN:VEVENT
DTSTAMP:20260419T171321
DTSTART;TZID=Europe/Berlin:20260627T100000
DTEND;TZID=Europe/Berlin:20260627T180000
UID:26120715L-20260627T100000@VHSOSTKREIS HANNOVER
SUMMARY:Landschaften in Acryl Ein Wochenendseminar für Anfänger*innen und Fortgeschrittene (26120715L) 
LOCATION:Lehrte, VHS-Gebäude, Werkraum, Rathausplatz 2, 31275 Lehrte
END:VEVENT
END:VCALENDAR