BEGIN:VCALENDAR
VERSION:2.0
PRODID:https://www.kufer.de/kuferweb / DE
METHOD:PUBLISH
CALSCALE:GREGORIAN
X-WR-TIMEZONE:Europe/Berlin
BEGIN:VTIMEZONE
TZID:Europe/Berlin
X-LIC-LOCATION:Europe/Berlin
BEGIN:DAYLIGHT
TZOFFSETFROM:+0100
TZOFFSETTO:+0200
TZNAME:CEST
DTSTART:19700329T020000
RRULE:FREQ=YEARLY;INTERVAL=1;BYDAY=-1SU;BYMONTH=3
END:DAYLIGHT
BEGIN:STANDARD
TZOFFSETFROM:+0200
TZOFFSETTO:+0100
TZNAME:CET
DTSTART:19701025T030000
RRULE:FREQ=YEARLY;INTERVAL=1;BYDAY=-1SU;BYMONTH=10
END:STANDARD
END:VTIMEZONE
BEGIN:VEVENT
DTSTAMP:20260420T114256
DTSTART;TZID=Europe/Berlin:20260422T180000
DTEND;TZID=Europe/Berlin:20260422T201500
UID:26120905L-20260422T180000@VHSOSTKREIS HANNOVER
SUMMARY:An die Nähmaschine - fertig, los... Das ABC des Nähens für Einsteiger*innen (26120905L) 
LOCATION:Lehrte, VHS-Gebäude, Werkraum, Rathausplatz 2, 31275 Lehrte
END:VEVENT
BEGIN:VEVENT
DTSTAMP:20260420T114256
DTSTART;TZID=Europe/Berlin:20260428T180000
DTEND;TZID=Europe/Berlin:20260428T201500
UID:26120905L-20260428T180000@VHSOSTKREIS HANNOVER
SUMMARY:An die Nähmaschine - fertig, los... Das ABC des Nähens für Einsteiger*innen (26120905L) 
LOCATION:Lehrte, VHS-Gebäude, Werkraum, Rathausplatz 2, 31275 Lehrte
END:VEVENT
BEGIN:VEVENT
DTSTAMP:20260420T114256
DTSTART;TZID=Europe/Berlin:20260505T180000
DTEND;TZID=Europe/Berlin:20260505T201500
UID:26120905L-20260505T180000@VHSOSTKREIS HANNOVER
SUMMARY:An die Nähmaschine - fertig, los... Das ABC des Nähens für Einsteiger*innen (26120905L) 
LOCATION:Lehrte, VHS-Gebäude, Werkraum, Rathausplatz 2, 31275 Lehrte
END:VEVENT
BEGIN:VEVENT
DTSTAMP:20260420T114256
DTSTART;TZID=Europe/Berlin:20260513T180000
DTEND;TZID=Europe/Berlin:20260513T201500
UID:26120905L-20260513T180000@VHSOSTKREIS HANNOVER
SUMMARY:An die Nähmaschine - fertig, los... Das ABC des Nähens für Einsteiger*innen (26120905L) 
LOCATION:Lehrte, VHS-Gebäude, Werkraum, Rathausplatz 2, 31275 Lehrte
END:VEVENT
BEGIN:VEVENT
DTSTAMP:20260420T114256
DTSTART;TZID=Europe/Berlin:20260519T180000
DTEND;TZID=Europe/Berlin:20260519T201500
UID:26120905L-20260519T180000@VHSOSTKREIS HANNOVER
SUMMARY:An die Nähmaschine - fertig, los... Das ABC des Nähens für Einsteiger*innen (26120905L) 
LOCATION:Lehrte, VHS-Gebäude, Werkraum, Rathausplatz 2, 31275 Lehrte
END:VEVENT
BEGIN:VEVENT
DTSTAMP:20260420T114256
DTSTART;TZID=Europe/Berlin:20260603T180000
DTEND;TZID=Europe/Berlin:20260603T201500
UID:26120905L-20260603T180000@VHSOSTKREIS HANNOVER
SUMMARY:An die Nähmaschine - fertig, los... Das ABC des Nähens für Einsteiger*innen (26120905L) 
LOCATION:Lehrte, VHS-Gebäude, Werkraum, Rathausplatz 2, 31275 Lehrte
END:VEVENT
END:VCALENDAR