BEGIN:VCALENDAR
VERSION:2.0
PRODID:https://www.kufer.de/kuferweb / DE
METHOD:PUBLISH
CALSCALE:GREGORIAN
X-WR-TIMEZONE:Europe/Berlin
BEGIN:VTIMEZONE
TZID:Europe/Berlin
X-LIC-LOCATION:Europe/Berlin
BEGIN:DAYLIGHT
TZOFFSETFROM:+0100
TZOFFSETTO:+0200
TZNAME:CEST
DTSTART:19700329T020000
RRULE:FREQ=YEARLY;INTERVAL=1;BYDAY=-1SU;BYMONTH=3
END:DAYLIGHT
BEGIN:STANDARD
TZOFFSETFROM:+0200
TZOFFSETTO:+0100
TZNAME:CET
DTSTART:19701025T030000
RRULE:FREQ=YEARLY;INTERVAL=1;BYDAY=-1SU;BYMONTH=10
END:STANDARD
END:VTIMEZONE
BEGIN:VEVENT
DTSTAMP:20260423T153840
DTSTART;TZID=Europe/Berlin:20260430T111500
DTEND;TZID=Europe/Berlin:20260430T133000
UID:26121303L-20260430T111500@VHSOSTKREIS HANNOVER
SUMMARY:Gitarren-Anfängerkurs für Senioren, Teil 2 Ohne Noten! (26121303L) 
LOCATION:Lehrte, VHS-Gebäude, Gymnastikraum, Rathausplatz 2, 31275 Lehrte
END:VEVENT
BEGIN:VEVENT
DTSTAMP:20260423T153840
DTSTART;TZID=Europe/Berlin:20260507T111500
DTEND;TZID=Europe/Berlin:20260507T133000
UID:26121303L-20260507T111500@VHSOSTKREIS HANNOVER
SUMMARY:Gitarren-Anfängerkurs für Senioren, Teil 2 Ohne Noten! (26121303L) 
LOCATION:Lehrte, VHS-Gebäude, Gymnastikraum, Rathausplatz 2, 31275 Lehrte
END:VEVENT
BEGIN:VEVENT
DTSTAMP:20260423T153840
DTSTART;TZID=Europe/Berlin:20260521T111500
DTEND;TZID=Europe/Berlin:20260521T133000
UID:26121303L-20260521T111500@VHSOSTKREIS HANNOVER
SUMMARY:Gitarren-Anfängerkurs für Senioren, Teil 2 Ohne Noten! (26121303L) 
LOCATION:Lehrte, VHS-Gebäude, Gymnastikraum, Rathausplatz 2, 31275 Lehrte
END:VEVENT
BEGIN:VEVENT
DTSTAMP:20260423T153840
DTSTART;TZID=Europe/Berlin:20260528T111500
DTEND;TZID=Europe/Berlin:20260528T133000
UID:26121303L-20260528T111500@VHSOSTKREIS HANNOVER
SUMMARY:Gitarren-Anfängerkurs für Senioren, Teil 2 Ohne Noten! (26121303L) 
LOCATION:Lehrte, VHS-Gebäude, Gymnastikraum, Rathausplatz 2, 31275 Lehrte
END:VEVENT
BEGIN:VEVENT
DTSTAMP:20260423T153840
DTSTART;TZID=Europe/Berlin:20260604T111500
DTEND;TZID=Europe/Berlin:20260604T133000
UID:26121303L-20260604T111500@VHSOSTKREIS HANNOVER
SUMMARY:Gitarren-Anfängerkurs für Senioren, Teil 2 Ohne Noten! (26121303L) 
LOCATION:Lehrte, VHS-Gebäude, Gymnastikraum, Rathausplatz 2, 31275 Lehrte
END:VEVENT
BEGIN:VEVENT
DTSTAMP:20260423T153840
DTSTART;TZID=Europe/Berlin:20260611T111500
DTEND;TZID=Europe/Berlin:20260611T133000
UID:26121303L-20260611T111500@VHSOSTKREIS HANNOVER
SUMMARY:Gitarren-Anfängerkurs für Senioren, Teil 2 Ohne Noten! (26121303L) 
LOCATION:Lehrte, VHS-Gebäude, Gymnastikraum, Rathausplatz 2, 31275 Lehrte
END:VEVENT
BEGIN:VEVENT
DTSTAMP:20260423T153840
DTSTART;TZID=Europe/Berlin:20260618T111500
DTEND;TZID=Europe/Berlin:20260618T133000
UID:26121303L-20260618T111500@VHSOSTKREIS HANNOVER
SUMMARY:Gitarren-Anfängerkurs für Senioren, Teil 2 Ohne Noten! (26121303L) 
LOCATION:Lehrte, VHS-Gebäude, Gymnastikraum, Rathausplatz 2, 31275 Lehrte
END:VEVENT
BEGIN:VEVENT
DTSTAMP:20260423T153840
DTSTART;TZID=Europe/Berlin:20260625T111500
DTEND;TZID=Europe/Berlin:20260625T133000
UID:26121303L-20260625T111500@VHSOSTKREIS HANNOVER
SUMMARY:Gitarren-Anfängerkurs für Senioren, Teil 2 Ohne Noten! (26121303L) 
LOCATION:Lehrte, VHS-Gebäude, Gymnastikraum, Rathausplatz 2, 31275 Lehrte
END:VEVENT
END:VCALENDAR