BEGIN:VCALENDAR
VERSION:2.0
PRODID:https://www.kufer.de/kuferweb / DE
METHOD:PUBLISH
CALSCALE:GREGORIAN
X-WR-TIMEZONE:Europe/Berlin
BEGIN:VTIMEZONE
TZID:Europe/Berlin
X-LIC-LOCATION:Europe/Berlin
BEGIN:DAYLIGHT
TZOFFSETFROM:+0100
TZOFFSETTO:+0200
TZNAME:CEST
DTSTART:19700329T020000
RRULE:FREQ=YEARLY;INTERVAL=1;BYDAY=-1SU;BYMONTH=3
END:DAYLIGHT
BEGIN:STANDARD
TZOFFSETFROM:+0200
TZOFFSETTO:+0100
TZNAME:CET
DTSTART:19701025T030000
RRULE:FREQ=YEARLY;INTERVAL=1;BYDAY=-1SU;BYMONTH=10
END:STANDARD
END:VTIMEZONE
BEGIN:VEVENT
DTSTAMP:20260424T130354
DTSTART;TZID=Europe/Berlin:20260709T173000
DTEND;TZID=Europe/Berlin:20260709T190000
UID:26130155I-20260709T173000@VHSOSTKREIS HANNOVER
SUMMARY:Neu! Sommerkurs Yoga vertiefen und aufblühen (26130155I) 
LOCATION:Isernhagen, VHS-Gebäude, Bewegungsraum, Hannoversche Str. 23, 30916 Isernhagen
END:VEVENT
BEGIN:VEVENT
DTSTAMP:20260424T130354
DTSTART;TZID=Europe/Berlin:20260716T173000
DTEND;TZID=Europe/Berlin:20260716T190000
UID:26130155I-20260716T173000@VHSOSTKREIS HANNOVER
SUMMARY:Neu! Sommerkurs Yoga vertiefen und aufblühen (26130155I) 
LOCATION:Isernhagen, VHS-Gebäude, Bewegungsraum, Hannoversche Str. 23, 30916 Isernhagen
END:VEVENT
BEGIN:VEVENT
DTSTAMP:20260424T130354
DTSTART;TZID=Europe/Berlin:20260723T173000
DTEND;TZID=Europe/Berlin:20260723T190000
UID:26130155I-20260723T173000@VHSOSTKREIS HANNOVER
SUMMARY:Neu! Sommerkurs Yoga vertiefen und aufblühen (26130155I) 
LOCATION:Isernhagen, VHS-Gebäude, Bewegungsraum, Hannoversche Str. 23, 30916 Isernhagen
END:VEVENT
BEGIN:VEVENT
DTSTAMP:20260424T130354
DTSTART;TZID=Europe/Berlin:20260730T173000
DTEND;TZID=Europe/Berlin:20260730T190000
UID:26130155I-20260730T173000@VHSOSTKREIS HANNOVER
SUMMARY:Neu! Sommerkurs Yoga vertiefen und aufblühen (26130155I) 
LOCATION:Isernhagen, VHS-Gebäude, Bewegungsraum, Hannoversche Str. 23, 30916 Isernhagen
END:VEVENT
BEGIN:VEVENT
DTSTAMP:20260424T130354
DTSTART;TZID=Europe/Berlin:20260813T173000
DTEND;TZID=Europe/Berlin:20260813T190000
UID:26130155I-20260813T173000@VHSOSTKREIS HANNOVER
SUMMARY:Neu! Sommerkurs Yoga vertiefen und aufblühen (26130155I) 
LOCATION:Isernhagen, VHS-Gebäude, Bewegungsraum, Hannoversche Str. 23, 30916 Isernhagen
END:VEVENT
BEGIN:VEVENT
DTSTAMP:20260424T130354
DTSTART;TZID=Europe/Berlin:20260827T173000
DTEND;TZID=Europe/Berlin:20260827T190000
UID:26130155I-20260827T173000@VHSOSTKREIS HANNOVER
SUMMARY:Neu! Sommerkurs Yoga vertiefen und aufblühen (26130155I) 
LOCATION:Isernhagen, VHS-Gebäude, Bewegungsraum, Hannoversche Str. 23, 30916 Isernhagen
END:VEVENT
BEGIN:VEVENT
DTSTAMP:20260424T130354
DTSTART;TZID=Europe/Berlin:20260910T173000
DTEND;TZID=Europe/Berlin:20260910T190000
UID:26130155I-20260910T173000@VHSOSTKREIS HANNOVER
SUMMARY:Neu! Sommerkurs Yoga vertiefen und aufblühen (26130155I) 
LOCATION:Isernhagen, VHS-Gebäude, Bewegungsraum, Hannoversche Str. 23, 30916 Isernhagen
END:VEVENT
BEGIN:VEVENT
DTSTAMP:20260424T130354
DTSTART;TZID=Europe/Berlin:20260917T173000
DTEND;TZID=Europe/Berlin:20260917T190000
UID:26130155I-20260917T173000@VHSOSTKREIS HANNOVER
SUMMARY:Neu! Sommerkurs Yoga vertiefen und aufblühen (26130155I) 
LOCATION:Isernhagen, VHS-Gebäude, Bewegungsraum, Hannoversche Str. 23, 30916 Isernhagen
END:VEVENT
END:VCALENDAR