BEGIN:VCALENDAR
VERSION:2.0
PRODID:https://www.kufer.de/kuferweb / DE
METHOD:PUBLISH
CALSCALE:GREGORIAN
X-WR-TIMEZONE:Europe/Berlin
BEGIN:VTIMEZONE
TZID:Europe/Berlin
X-LIC-LOCATION:Europe/Berlin
BEGIN:DAYLIGHT
TZOFFSETFROM:+0100
TZOFFSETTO:+0200
TZNAME:CEST
DTSTART:19700329T020000
RRULE:FREQ=YEARLY;INTERVAL=1;BYDAY=-1SU;BYMONTH=3
END:DAYLIGHT
BEGIN:STANDARD
TZOFFSETFROM:+0200
TZOFFSETTO:+0100
TZNAME:CET
DTSTART:19701025T030000
RRULE:FREQ=YEARLY;INTERVAL=1;BYDAY=-1SU;BYMONTH=10
END:STANDARD
END:VTIMEZONE
BEGIN:VEVENT
DTSTAMP:20260420T132730
DTSTART;TZID=Europe/Berlin:20260709T093000
DTEND;TZID=Europe/Berlin:20260709T103000
UID:26130264B-20260709T093000@VHSOSTKREIS HANNOVER
SUMMARY:Fitness- und Wirbelsäulengymnastik - Sommerkurs - (26130264B) 
LOCATION:Burgdorf, VHS-Räume, Gymnastikraum, Bergstr. 4-6, 31303 Burgdorf
END:VEVENT
BEGIN:VEVENT
DTSTAMP:20260420T132730
DTSTART;TZID=Europe/Berlin:20260716T093000
DTEND;TZID=Europe/Berlin:20260716T103000
UID:26130264B-20260716T093000@VHSOSTKREIS HANNOVER
SUMMARY:Fitness- und Wirbelsäulengymnastik - Sommerkurs - (26130264B) 
LOCATION:Burgdorf, VHS-Räume, Gymnastikraum, Bergstr. 4-6, 31303 Burgdorf
END:VEVENT
BEGIN:VEVENT
DTSTAMP:20260420T132730
DTSTART;TZID=Europe/Berlin:20260723T093000
DTEND;TZID=Europe/Berlin:20260723T103000
UID:26130264B-20260723T093000@VHSOSTKREIS HANNOVER
SUMMARY:Fitness- und Wirbelsäulengymnastik - Sommerkurs - (26130264B) 
LOCATION:Burgdorf, VHS-Räume, Gymnastikraum, Bergstr. 4-6, 31303 Burgdorf
END:VEVENT
BEGIN:VEVENT
DTSTAMP:20260420T132730
DTSTART;TZID=Europe/Berlin:20260730T093000
DTEND;TZID=Europe/Berlin:20260730T103000
UID:26130264B-20260730T093000@VHSOSTKREIS HANNOVER
SUMMARY:Fitness- und Wirbelsäulengymnastik - Sommerkurs - (26130264B) 
LOCATION:Burgdorf, VHS-Räume, Gymnastikraum, Bergstr. 4-6, 31303 Burgdorf
END:VEVENT
BEGIN:VEVENT
DTSTAMP:20260420T132730
DTSTART;TZID=Europe/Berlin:20260806T093000
DTEND;TZID=Europe/Berlin:20260806T103000
UID:26130264B-20260806T093000@VHSOSTKREIS HANNOVER
SUMMARY:Fitness- und Wirbelsäulengymnastik - Sommerkurs - (26130264B) 
LOCATION:Burgdorf, VHS-Räume, Gymnastikraum, Bergstr. 4-6, 31303 Burgdorf
END:VEVENT
END:VCALENDAR