BEGIN:VCALENDAR
VERSION:2.0
PRODID:https://www.kufer.de/kuferweb / DE
METHOD:PUBLISH
CALSCALE:GREGORIAN
X-WR-TIMEZONE:Europe/Berlin
BEGIN:VTIMEZONE
TZID:Europe/Berlin
X-LIC-LOCATION:Europe/Berlin
BEGIN:DAYLIGHT
TZOFFSETFROM:+0100
TZOFFSETTO:+0200
TZNAME:CEST
DTSTART:19700329T020000
RRULE:FREQ=YEARLY;INTERVAL=1;BYDAY=-1SU;BYMONTH=3
END:DAYLIGHT
BEGIN:STANDARD
TZOFFSETFROM:+0200
TZOFFSETTO:+0100
TZNAME:CET
DTSTART:19701025T030000
RRULE:FREQ=YEARLY;INTERVAL=1;BYDAY=-1SU;BYMONTH=10
END:STANDARD
END:VTIMEZONE
BEGIN:VEVENT
DTSTAMP:20260424T124734
DTSTART;TZID=Europe/Berlin:20260605T183000
DTEND;TZID=Europe/Berlin:20260605T210000
UID:26130290B-20260605T183000@VHSOSTKREIS HANNOVER
SUMMARY:Nordic Walking - Gesundheitstraining Ideale Unterstützung zur Gewichtsreduktion (26130290B) 
LOCATION:Burgdorf, VHS-Räume, Seminarraum 1, Bergstr. 4-6, 31303 Burgdorf
END:VEVENT
BEGIN:VEVENT
DTSTAMP:20260424T124734
DTSTART;TZID=Europe/Berlin:20260606T100000
DTEND;TZID=Europe/Berlin:20260606T131500
UID:26130290B-20260606T100000@VHSOSTKREIS HANNOVER
SUMMARY:Nordic Walking - Gesundheitstraining Ideale Unterstützung zur Gewichtsreduktion (26130290B) 
LOCATION:Burgdorf, VHS-Räume, Seminarraum 1, Bergstr. 4-6, 31303 Burgdorf
END:VEVENT
BEGIN:VEVENT
DTSTAMP:20260424T124734
DTSTART;TZID=Europe/Berlin:20260607T100000
DTEND;TZID=Europe/Berlin:20260607T131500
UID:26130290B-20260607T100000@VHSOSTKREIS HANNOVER
SUMMARY:Nordic Walking - Gesundheitstraining Ideale Unterstützung zur Gewichtsreduktion (26130290B) 
LOCATION:Burgdorf, VHS-Räume, Seminarraum 1, Bergstr. 4-6, 31303 Burgdorf
END:VEVENT
END:VCALENDAR