BEGIN:VCALENDAR
VERSION:2.0
PRODID:https://www.kufer.de/kuferweb / DE
METHOD:PUBLISH
CALSCALE:GREGORIAN
X-WR-TIMEZONE:Europe/Berlin
BEGIN:VTIMEZONE
TZID:Europe/Berlin
X-LIC-LOCATION:Europe/Berlin
BEGIN:DAYLIGHT
TZOFFSETFROM:+0100
TZOFFSETTO:+0200
TZNAME:CEST
DTSTART:19700329T020000
RRULE:FREQ=YEARLY;INTERVAL=1;BYDAY=-1SU;BYMONTH=3
END:DAYLIGHT
BEGIN:STANDARD
TZOFFSETFROM:+0200
TZOFFSETTO:+0100
TZNAME:CET
DTSTART:19701025T030000
RRULE:FREQ=YEARLY;INTERVAL=1;BYDAY=-1SU;BYMONTH=10
END:STANDARD
END:VTIMEZONE
BEGIN:VEVENT
DTSTAMP:20260424T130424
DTSTART;TZID=Europe/Berlin:20260607T100000
DTEND;TZID=Europe/Berlin:20260607T113000
UID:26130434I-20260607T100000@VHSOSTKREIS HANNOVER
SUMMARY:NEU! Workshop: Bhagavad Gita (26130434I) 
LOCATION:Isernhagen, VHS-Gebäude, Seminarraum 1, Hannoversche Str. 23, 30916 Isernhagen
END:VEVENT
BEGIN:VEVENT
DTSTAMP:20260424T130424
DTSTART;TZID=Europe/Berlin:20260614T100000
DTEND;TZID=Europe/Berlin:20260614T113000
UID:26130434I-20260614T100000@VHSOSTKREIS HANNOVER
SUMMARY:NEU! Workshop: Bhagavad Gita (26130434I) 
LOCATION:Isernhagen, VHS-Gebäude, Seminarraum 1, Hannoversche Str. 23, 30916 Isernhagen
END:VEVENT
BEGIN:VEVENT
DTSTAMP:20260424T130424
DTSTART;TZID=Europe/Berlin:20260621T100000
DTEND;TZID=Europe/Berlin:20260621T113000
UID:26130434I-20260621T100000@VHSOSTKREIS HANNOVER
SUMMARY:NEU! Workshop: Bhagavad Gita (26130434I) 
LOCATION:Isernhagen, VHS-Gebäude, Seminarraum 1, Hannoversche Str. 23, 30916 Isernhagen
END:VEVENT
BEGIN:VEVENT
DTSTAMP:20260424T130424
DTSTART;TZID=Europe/Berlin:20260628T100000
DTEND;TZID=Europe/Berlin:20260628T113000
UID:26130434I-20260628T100000@VHSOSTKREIS HANNOVER
SUMMARY:NEU! Workshop: Bhagavad Gita (26130434I) 
LOCATION:Isernhagen, VHS-Gebäude, Seminarraum 1, Hannoversche Str. 23, 30916 Isernhagen
END:VEVENT
END:VCALENDAR