BEGIN:VCALENDAR
VERSION:2.0
PRODID:https://www.kufer.de/kuferweb / DE
METHOD:PUBLISH
CALSCALE:GREGORIAN
X-WR-TIMEZONE:Europe/Berlin
BEGIN:VTIMEZONE
TZID:Europe/Berlin
X-LIC-LOCATION:Europe/Berlin
BEGIN:DAYLIGHT
TZOFFSETFROM:+0100
TZOFFSETTO:+0200
TZNAME:CEST
DTSTART:19700329T020000
RRULE:FREQ=YEARLY;INTERVAL=1;BYDAY=-1SU;BYMONTH=3
END:DAYLIGHT
BEGIN:STANDARD
TZOFFSETFROM:+0200
TZOFFSETTO:+0100
TZNAME:CET
DTSTART:19701025T030000
RRULE:FREQ=YEARLY;INTERVAL=1;BYDAY=-1SU;BYMONTH=10
END:STANDARD
END:VTIMEZONE
BEGIN:VEVENT
DTSTAMP:20260424T124724
DTSTART;TZID=Europe/Berlin:20260601T170000
DTEND;TZID=Europe/Berlin:20260601T181500
UID:26140638L-20260601T170000@VHSOSTKREIS HANNOVER
SUMMARY:NEU! English for Runaways - der Sprach-Workout-Crossover-Kurs Englische Konversation bei beim Joggen B1/B2 (26140638L) 
LOCATION:Allgemein, auswärtig
END:VEVENT
BEGIN:VEVENT
DTSTAMP:20260424T124724
DTSTART;TZID=Europe/Berlin:20260608T170000
DTEND;TZID=Europe/Berlin:20260608T181500
UID:26140638L-20260608T170000@VHSOSTKREIS HANNOVER
SUMMARY:NEU! English for Runaways - der Sprach-Workout-Crossover-Kurs Englische Konversation bei beim Joggen B1/B2 (26140638L) 
LOCATION:Allgemein, auswärtig
END:VEVENT
BEGIN:VEVENT
DTSTAMP:20260424T124724
DTSTART;TZID=Europe/Berlin:20260615T170000
DTEND;TZID=Europe/Berlin:20260615T181500
UID:26140638L-20260615T170000@VHSOSTKREIS HANNOVER
SUMMARY:NEU! English for Runaways - der Sprach-Workout-Crossover-Kurs Englische Konversation bei beim Joggen B1/B2 (26140638L) 
LOCATION:Allgemein, auswärtig
END:VEVENT
BEGIN:VEVENT
DTSTAMP:20260424T124724
DTSTART;TZID=Europe/Berlin:20260622T170000
DTEND;TZID=Europe/Berlin:20260622T181500
UID:26140638L-20260622T170000@VHSOSTKREIS HANNOVER
SUMMARY:NEU! English for Runaways - der Sprach-Workout-Crossover-Kurs Englische Konversation bei beim Joggen B1/B2 (26140638L) 
LOCATION:Allgemein, auswärtig
END:VEVENT
END:VCALENDAR