BEGIN:VCALENDAR
VERSION:2.0
PRODID:https://www.kufer.de/kuferweb / DE
METHOD:PUBLISH
CALSCALE:GREGORIAN
X-WR-TIMEZONE:Europe/Berlin
BEGIN:VTIMEZONE
TZID:Europe/Berlin
X-LIC-LOCATION:Europe/Berlin
BEGIN:DAYLIGHT
TZOFFSETFROM:+0100
TZOFFSETTO:+0200
TZNAME:CEST
DTSTART:19700329T020000
RRULE:FREQ=YEARLY;INTERVAL=1;BYDAY=-1SU;BYMONTH=3
END:DAYLIGHT
BEGIN:STANDARD
TZOFFSETFROM:+0200
TZOFFSETTO:+0100
TZNAME:CET
DTSTART:19701025T030000
RRULE:FREQ=YEARLY;INTERVAL=1;BYDAY=-1SU;BYMONTH=10
END:STANDARD
END:VTIMEZONE
BEGIN:VEVENT
DTSTAMP:20260422T160817
DTSTART;TZID=Europe/Berlin:20260817T081500
DTEND;TZID=Europe/Berlin:20260817T121500
UID:261441XYB1-20260817T081500@VHSOSTKREIS HANNOVER
SUMMARY:Integrationskurs A1 - Deutsch für Anfänger*innen Modul 1 (261441XYB1) 
LOCATION:Burgdorf, VHS-Räume, EDV-Raum, Bergstr. 4-6, 31303 Burgdorf
END:VEVENT
BEGIN:VEVENT
DTSTAMP:20260422T160817
DTSTART;TZID=Europe/Berlin:20260818T081500
DTEND;TZID=Europe/Berlin:20260818T121500
UID:261441XYB1-20260818T081500@VHSOSTKREIS HANNOVER
SUMMARY:Integrationskurs A1 - Deutsch für Anfänger*innen Modul 1 (261441XYB1) 
LOCATION:Burgdorf, VHS-Räume, EDV-Raum, Bergstr. 4-6, 31303 Burgdorf
END:VEVENT
BEGIN:VEVENT
DTSTAMP:20260422T160817
DTSTART;TZID=Europe/Berlin:20260819T081500
DTEND;TZID=Europe/Berlin:20260819T121500
UID:261441XYB1-20260819T081500@VHSOSTKREIS HANNOVER
SUMMARY:Integrationskurs A1 - Deutsch für Anfänger*innen Modul 1 (261441XYB1) 
LOCATION:Burgdorf, VHS-Räume, EDV-Raum, Bergstr. 4-6, 31303 Burgdorf
END:VEVENT
BEGIN:VEVENT
DTSTAMP:20260422T160817
DTSTART;TZID=Europe/Berlin:20260820T081500
DTEND;TZID=Europe/Berlin:20260820T121500
UID:261441XYB1-20260820T081500@VHSOSTKREIS HANNOVER
SUMMARY:Integrationskurs A1 - Deutsch für Anfänger*innen Modul 1 (261441XYB1) 
LOCATION:Burgdorf, VHS-Räume, Seminarraum 2, Bergstr. 4 - 6, 31303 Burgdorf
END:VEVENT
BEGIN:VEVENT
DTSTAMP:20260422T160817
DTSTART;TZID=Europe/Berlin:20260824T081500
DTEND;TZID=Europe/Berlin:20260824T121500
UID:261441XYB1-20260824T081500@VHSOSTKREIS HANNOVER
SUMMARY:Integrationskurs A1 - Deutsch für Anfänger*innen Modul 1 (261441XYB1) 
LOCATION:Burgdorf, VHS-Räume, EDV-Raum, Bergstr. 4-6, 31303 Burgdorf
END:VEVENT
BEGIN:VEVENT
DTSTAMP:20260422T160817
DTSTART;TZID=Europe/Berlin:20260825T081500
DTEND;TZID=Europe/Berlin:20260825T121500
UID:261441XYB1-20260825T081500@VHSOSTKREIS HANNOVER
SUMMARY:Integrationskurs A1 - Deutsch für Anfänger*innen Modul 1 (261441XYB1) 
LOCATION:Burgdorf, VHS-Räume, EDV-Raum, Bergstr. 4-6, 31303 Burgdorf
END:VEVENT
BEGIN:VEVENT
DTSTAMP:20260422T160817
DTSTART;TZID=Europe/Berlin:20260826T081500
DTEND;TZID=Europe/Berlin:20260826T121500
UID:261441XYB1-20260826T081500@VHSOSTKREIS HANNOVER
SUMMARY:Integrationskurs A1 - Deutsch für Anfänger*innen Modul 1 (261441XYB1) 
LOCATION:Burgdorf, VHS-Räume, EDV-Raum, Bergstr. 4-6, 31303 Burgdorf
END:VEVENT
BEGIN:VEVENT
DTSTAMP:20260422T160817
DTSTART;TZID=Europe/Berlin:20260827T081500
DTEND;TZID=Europe/Berlin:20260827T121500
UID:261441XYB1-20260827T081500@VHSOSTKREIS HANNOVER
SUMMARY:Integrationskurs A1 - Deutsch für Anfänger*innen Modul 1 (261441XYB1) 
LOCATION:Burgdorf, VHS-Räume, Seminarraum 2, Bergstr. 4 - 6, 31303 Burgdorf
END:VEVENT
BEGIN:VEVENT
DTSTAMP:20260422T160817
DTSTART;TZID=Europe/Berlin:20260831T081500
DTEND;TZID=Europe/Berlin:20260831T121500
UID:261441XYB1-20260831T081500@VHSOSTKREIS HANNOVER
SUMMARY:Integrationskurs A1 - Deutsch für Anfänger*innen Modul 1 (261441XYB1) 
LOCATION:Burgdorf, VHS-Räume, EDV-Raum, Bergstr. 4-6, 31303 Burgdorf
END:VEVENT
BEGIN:VEVENT
DTSTAMP:20260422T160817
DTSTART;TZID=Europe/Berlin:20260901T081500
DTEND;TZID=Europe/Berlin:20260901T121500
UID:261441XYB1-20260901T081500@VHSOSTKREIS HANNOVER
SUMMARY:Integrationskurs A1 - Deutsch für Anfänger*innen Modul 1 (261441XYB1) 
LOCATION:Burgdorf, VHS-Räume, EDV-Raum, Bergstr. 4-6, 31303 Burgdorf
END:VEVENT
BEGIN:VEVENT
DTSTAMP:20260422T160817
DTSTART;TZID=Europe/Berlin:20260902T081500
DTEND;TZID=Europe/Berlin:20260902T121500
UID:261441XYB1-20260902T081500@VHSOSTKREIS HANNOVER
SUMMARY:Integrationskurs A1 - Deutsch für Anfänger*innen Modul 1 (261441XYB1) 
LOCATION:Burgdorf, VHS-Räume, EDV-Raum, Bergstr. 4-6, 31303 Burgdorf
END:VEVENT
BEGIN:VEVENT
DTSTAMP:20260422T160817
DTSTART;TZID=Europe/Berlin:20260903T081500
DTEND;TZID=Europe/Berlin:20260903T121500
UID:261441XYB1-20260903T081500@VHSOSTKREIS HANNOVER
SUMMARY:Integrationskurs A1 - Deutsch für Anfänger*innen Modul 1 (261441XYB1) 
LOCATION:Burgdorf, VHS-Räume, Seminarraum 2, Bergstr. 4 - 6, 31303 Burgdorf
END:VEVENT
BEGIN:VEVENT
DTSTAMP:20260422T160817
DTSTART;TZID=Europe/Berlin:20260907T081500
DTEND;TZID=Europe/Berlin:20260907T121500
UID:261441XYB1-20260907T081500@VHSOSTKREIS HANNOVER
SUMMARY:Integrationskurs A1 - Deutsch für Anfänger*innen Modul 1 (261441XYB1) 
LOCATION:Burgdorf, VHS-Räume, EDV-Raum, Bergstr. 4-6, 31303 Burgdorf
END:VEVENT
BEGIN:VEVENT
DTSTAMP:20260422T160817
DTSTART;TZID=Europe/Berlin:20260908T081500
DTEND;TZID=Europe/Berlin:20260908T121500
UID:261441XYB1-20260908T081500@VHSOSTKREIS HANNOVER
SUMMARY:Integrationskurs A1 - Deutsch für Anfänger*innen Modul 1 (261441XYB1) 
LOCATION:Burgdorf, VHS-Räume, EDV-Raum, Bergstr. 4-6, 31303 Burgdorf
END:VEVENT
BEGIN:VEVENT
DTSTAMP:20260422T160817
DTSTART;TZID=Europe/Berlin:20260909T081500
DTEND;TZID=Europe/Berlin:20260909T121500
UID:261441XYB1-20260909T081500@VHSOSTKREIS HANNOVER
SUMMARY:Integrationskurs A1 - Deutsch für Anfänger*innen Modul 1 (261441XYB1) 
LOCATION:Burgdorf, VHS-Räume, EDV-Raum, Bergstr. 4-6, 31303 Burgdorf
END:VEVENT
BEGIN:VEVENT
DTSTAMP:20260422T160817
DTSTART;TZID=Europe/Berlin:20260910T081500
DTEND;TZID=Europe/Berlin:20260910T121500
UID:261441XYB1-20260910T081500@VHSOSTKREIS HANNOVER
SUMMARY:Integrationskurs A1 - Deutsch für Anfänger*innen Modul 1 (261441XYB1) 
LOCATION:Burgdorf, VHS-Räume, Seminarraum 2, Bergstr. 4 - 6, 31303 Burgdorf
END:VEVENT
BEGIN:VEVENT
DTSTAMP:20260422T160817
DTSTART;TZID=Europe/Berlin:20260914T081500
DTEND;TZID=Europe/Berlin:20260914T121500
UID:261441XYB1-20260914T081500@VHSOSTKREIS HANNOVER
SUMMARY:Integrationskurs A1 - Deutsch für Anfänger*innen Modul 1 (261441XYB1) 
LOCATION:Burgdorf, VHS-Räume, EDV-Raum, Bergstr. 4-6, 31303 Burgdorf
END:VEVENT
BEGIN:VEVENT
DTSTAMP:20260422T160817
DTSTART;TZID=Europe/Berlin:20260915T081500
DTEND;TZID=Europe/Berlin:20260915T121500
UID:261441XYB1-20260915T081500@VHSOSTKREIS HANNOVER
SUMMARY:Integrationskurs A1 - Deutsch für Anfänger*innen Modul 1 (261441XYB1) 
LOCATION:Burgdorf, VHS-Räume, EDV-Raum, Bergstr. 4-6, 31303 Burgdorf
END:VEVENT
BEGIN:VEVENT
DTSTAMP:20260422T160817
DTSTART;TZID=Europe/Berlin:20260916T081500
DTEND;TZID=Europe/Berlin:20260916T121500
UID:261441XYB1-20260916T081500@VHSOSTKREIS HANNOVER
SUMMARY:Integrationskurs A1 - Deutsch für Anfänger*innen Modul 1 (261441XYB1) 
LOCATION:Burgdorf, VHS-Räume, EDV-Raum, Bergstr. 4-6, 31303 Burgdorf
END:VEVENT
BEGIN:VEVENT
DTSTAMP:20260422T160817
DTSTART;TZID=Europe/Berlin:20260917T081500
DTEND;TZID=Europe/Berlin:20260917T121500
UID:261441XYB1-20260917T081500@VHSOSTKREIS HANNOVER
SUMMARY:Integrationskurs A1 - Deutsch für Anfänger*innen Modul 1 (261441XYB1) 
LOCATION:Burgdorf, VHS-Räume, Seminarraum 2, Bergstr. 4 - 6, 31303 Burgdorf
END:VEVENT
END:VCALENDAR