BEGIN:VCALENDAR
VERSION:2.0
PRODID:https://www.kufer.de/kuferweb / DE
METHOD:PUBLISH
CALSCALE:GREGORIAN
X-WR-TIMEZONE:Europe/Berlin
BEGIN:VTIMEZONE
TZID:Europe/Berlin
X-LIC-LOCATION:Europe/Berlin
BEGIN:DAYLIGHT
TZOFFSETFROM:+0100
TZOFFSETTO:+0200
TZNAME:CEST
DTSTART:19700329T020000
RRULE:FREQ=YEARLY;INTERVAL=1;BYDAY=-1SU;BYMONTH=3
END:DAYLIGHT
BEGIN:STANDARD
TZOFFSETFROM:+0200
TZOFFSETTO:+0100
TZNAME:CET
DTSTART:19701025T030000
RRULE:FREQ=YEARLY;INTERVAL=1;BYDAY=-1SU;BYMONTH=10
END:STANDARD
END:VTIMEZONE
BEGIN:VEVENT
DTSTAMP:20260424T152030
DTSTART;TZID=Europe/Berlin:20260504T173000
DTEND;TZID=Europe/Berlin:20260504T204500
UID:26154010I-20260504T173000@VHSOSTKREIS HANNOVER
SUMMARY:KI-Modelle im Vergleich – Gemini, Perplexity, Claude & ChatGPT (26154010I) 
LOCATION:Isernhagen, VHS-Gebäude, EDV-Raum, Hannoversche Str. 23, 30916 Isernhagen
END:VEVENT
END:VCALENDAR