BEGIN:VCALENDAR
VERSION:2.0
PRODID:https://www.kufer.de/kuferweb / DE
METHOD:PUBLISH
CALSCALE:GREGORIAN
X-WR-TIMEZONE:Europe/Berlin
BEGIN:VTIMEZONE
TZID:Europe/Berlin
X-LIC-LOCATION:Europe/Berlin
BEGIN:DAYLIGHT
TZOFFSETFROM:+0100
TZOFFSETTO:+0200
TZNAME:CEST
DTSTART:19700329T020000
RRULE:FREQ=YEARLY;INTERVAL=1;BYDAY=-1SU;BYMONTH=3
END:DAYLIGHT
BEGIN:STANDARD
TZOFFSETFROM:+0200
TZOFFSETTO:+0100
TZNAME:CET
DTSTART:19701025T030000
RRULE:FREQ=YEARLY;INTERVAL=1;BYDAY=-1SU;BYMONTH=10
END:STANDARD
END:VTIMEZONE
BEGIN:VEVENT
DTSTAMP:20260424T135515
DTSTART;TZID=Europe/Berlin:20260824T090000
DTEND;TZID=Europe/Berlin:20260824T161500
UID:26154102L-20260824T090000@VHSOSTKREIS HANNOVER
SUMMARY:Bildungsurlaub: Digitalkompetenz - Effizient arbeiten im digitalen Büro mit KI (26154102L) 
LOCATION:Lehrte, VHS-Gebäude, EDV-Raum, Rathausplatz 2, 31275 Lehrte
END:VEVENT
BEGIN:VEVENT
DTSTAMP:20260424T135515
DTSTART;TZID=Europe/Berlin:20260825T090000
DTEND;TZID=Europe/Berlin:20260825T161500
UID:26154102L-20260825T090000@VHSOSTKREIS HANNOVER
SUMMARY:Bildungsurlaub: Digitalkompetenz - Effizient arbeiten im digitalen Büro mit KI (26154102L) 
LOCATION:Lehrte, VHS-Gebäude, EDV-Raum, Rathausplatz 2, 31275 Lehrte
END:VEVENT
BEGIN:VEVENT
DTSTAMP:20260424T135515
DTSTART;TZID=Europe/Berlin:20260826T090000
DTEND;TZID=Europe/Berlin:20260826T161500
UID:26154102L-20260826T090000@VHSOSTKREIS HANNOVER
SUMMARY:Bildungsurlaub: Digitalkompetenz - Effizient arbeiten im digitalen Büro mit KI (26154102L) 
LOCATION:Lehrte, VHS-Gebäude, EDV-Raum, Rathausplatz 2, 31275 Lehrte
END:VEVENT
END:VCALENDAR