BEGIN:VCALENDAR
VERSION:2.0
PRODID:https://www.kufer.de/kuferweb / DE
METHOD:PUBLISH
CALSCALE:GREGORIAN
X-WR-TIMEZONE:Europe/Berlin
BEGIN:VTIMEZONE
TZID:Europe/Berlin
X-LIC-LOCATION:Europe/Berlin
BEGIN:DAYLIGHT
TZOFFSETFROM:+0100
TZOFFSETTO:+0200
TZNAME:CEST
DTSTART:19700329T020000
RRULE:FREQ=YEARLY;INTERVAL=1;BYDAY=-1SU;BYMONTH=3
END:DAYLIGHT
BEGIN:STANDARD
TZOFFSETFROM:+0200
TZOFFSETTO:+0100
TZNAME:CET
DTSTART:19701025T030000
RRULE:FREQ=YEARLY;INTERVAL=1;BYDAY=-1SU;BYMONTH=10
END:STANDARD
END:VTIMEZONE
BEGIN:VEVENT
DTSTAMP:20260424T130238
DTSTART;TZID=Europe/Berlin:20260604T093000
DTEND;TZID=Europe/Berlin:20260604T114500
UID:26154103L-20260604T093000@VHSOSTKREIS HANNOVER
SUMMARY:PC Einstieg für Migrantinnen (ab Sprachniveau B1) Nur für Frauen (26154103L) 
LOCATION:Lehrte, VHS-Gebäude, EDV-Raum, Rathausplatz 2, 31275 Lehrte
END:VEVENT
BEGIN:VEVENT
DTSTAMP:20260424T130238
DTSTART;TZID=Europe/Berlin:20260608T093000
DTEND;TZID=Europe/Berlin:20260608T114500
UID:26154103L-20260608T093000@VHSOSTKREIS HANNOVER
SUMMARY:PC Einstieg für Migrantinnen (ab Sprachniveau B1) Nur für Frauen (26154103L) 
LOCATION:Lehrte, VHS-Gebäude, EDV-Raum, Rathausplatz 2, 31275 Lehrte
END:VEVENT
BEGIN:VEVENT
DTSTAMP:20260424T130238
DTSTART;TZID=Europe/Berlin:20260611T093000
DTEND;TZID=Europe/Berlin:20260611T114500
UID:26154103L-20260611T093000@VHSOSTKREIS HANNOVER
SUMMARY:PC Einstieg für Migrantinnen (ab Sprachniveau B1) Nur für Frauen (26154103L) 
LOCATION:Lehrte, VHS-Gebäude, EDV-Raum, Rathausplatz 2, 31275 Lehrte
END:VEVENT
BEGIN:VEVENT
DTSTAMP:20260424T130238
DTSTART;TZID=Europe/Berlin:20260615T093000
DTEND;TZID=Europe/Berlin:20260615T114500
UID:26154103L-20260615T093000@VHSOSTKREIS HANNOVER
SUMMARY:PC Einstieg für Migrantinnen (ab Sprachniveau B1) Nur für Frauen (26154103L) 
LOCATION:Lehrte, VHS-Gebäude, EDV-Raum, Rathausplatz 2, 31275 Lehrte
END:VEVENT
BEGIN:VEVENT
DTSTAMP:20260424T130238
DTSTART;TZID=Europe/Berlin:20260618T093000
DTEND;TZID=Europe/Berlin:20260618T114500
UID:26154103L-20260618T093000@VHSOSTKREIS HANNOVER
SUMMARY:PC Einstieg für Migrantinnen (ab Sprachniveau B1) Nur für Frauen (26154103L) 
LOCATION:Lehrte, VHS-Gebäude, EDV-Raum, Rathausplatz 2, 31275 Lehrte
END:VEVENT
BEGIN:VEVENT
DTSTAMP:20260424T130238
DTSTART;TZID=Europe/Berlin:20260622T093000
DTEND;TZID=Europe/Berlin:20260622T114500
UID:26154103L-20260622T093000@VHSOSTKREIS HANNOVER
SUMMARY:PC Einstieg für Migrantinnen (ab Sprachniveau B1) Nur für Frauen (26154103L) 
LOCATION:Lehrte, VHS-Gebäude, EDV-Raum, Rathausplatz 2, 31275 Lehrte
END:VEVENT
BEGIN:VEVENT
DTSTAMP:20260424T130238
DTSTART;TZID=Europe/Berlin:20260625T093000
DTEND;TZID=Europe/Berlin:20260625T110000
UID:26154103L-20260625T093000@VHSOSTKREIS HANNOVER
SUMMARY:PC Einstieg für Migrantinnen (ab Sprachniveau B1) Nur für Frauen (26154103L) 
LOCATION:Lehrte, VHS-Gebäude, EDV-Raum, Rathausplatz 2, 31275 Lehrte
END:VEVENT
END:VCALENDAR