BEGIN:VCALENDAR
VERSION:2.0
PRODID:https://www.kufer.de/kuferweb / DE
METHOD:PUBLISH
CALSCALE:GREGORIAN
X-WR-TIMEZONE:Europe/Berlin
BEGIN:VTIMEZONE
TZID:Europe/Berlin
X-LIC-LOCATION:Europe/Berlin
BEGIN:DAYLIGHT
TZOFFSETFROM:+0100
TZOFFSETTO:+0200
TZNAME:CEST
DTSTART:19700329T020000
RRULE:FREQ=YEARLY;INTERVAL=1;BYDAY=-1SU;BYMONTH=3
END:DAYLIGHT
BEGIN:STANDARD
TZOFFSETFROM:+0200
TZOFFSETTO:+0100
TZNAME:CET
DTSTART:19701025T030000
RRULE:FREQ=YEARLY;INTERVAL=1;BYDAY=-1SU;BYMONTH=10
END:STANDARD
END:VTIMEZONE
BEGIN:VEVENT
DTSTAMP:20260420T153355
DTSTART;TZID=Europe/Berlin:20261019T093000
DTEND;TZID=Europe/Berlin:20261019T170000
UID:26220701B-20261019T093000@VHSOSTKREIS HANNOVER
SUMMARY:Atelierwoche in den Herbstferien (26220701B) 
LOCATION:Burgdorf, VHS-Räume, Werkraum, Bergstr. 4-6, 31303 Burgdorf
END:VEVENT
BEGIN:VEVENT
DTSTAMP:20260420T153355
DTSTART;TZID=Europe/Berlin:20261020T093000
DTEND;TZID=Europe/Berlin:20261020T170000
UID:26220701B-20261020T093000@VHSOSTKREIS HANNOVER
SUMMARY:Atelierwoche in den Herbstferien (26220701B) 
LOCATION:Burgdorf, VHS-Räume, Werkraum, Bergstr. 4-6, 31303 Burgdorf
END:VEVENT
BEGIN:VEVENT
DTSTAMP:20260420T153355
DTSTART;TZID=Europe/Berlin:20261021T093000
DTEND;TZID=Europe/Berlin:20261021T170000
UID:26220701B-20261021T093000@VHSOSTKREIS HANNOVER
SUMMARY:Atelierwoche in den Herbstferien (26220701B) 
LOCATION:Burgdorf, VHS-Räume, Entspannungsraum, Bergstr. 4-6, 31303 Burgdorf
END:VEVENT
BEGIN:VEVENT
DTSTAMP:20260420T153355
DTSTART;TZID=Europe/Berlin:20261022T093000
DTEND;TZID=Europe/Berlin:20261022T170000
UID:26220701B-20261022T093000@VHSOSTKREIS HANNOVER
SUMMARY:Atelierwoche in den Herbstferien (26220701B) 
LOCATION:Burgdorf, VHS-Räume, Seminarraum 5, Bergstr. 4-6, 31303 Burgdorf
END:VEVENT
BEGIN:VEVENT
DTSTAMP:20260420T153355
DTSTART;TZID=Europe/Berlin:20261023T093000
DTEND;TZID=Europe/Berlin:20261023T170000
UID:26220701B-20261023T093000@VHSOSTKREIS HANNOVER
SUMMARY:Atelierwoche in den Herbstferien (26220701B) 
LOCATION:Burgdorf, VHS-Räume, Seminarraum 5, Bergstr. 4-6, 31303 Burgdorf
END:VEVENT
END:VCALENDAR