BEGIN:VCALENDAR
VERSION:2.0
PRODID:https://www.kufer.de/kuferweb / DE
METHOD:PUBLISH
CALSCALE:GREGORIAN
X-WR-TIMEZONE:Europe/Berlin
BEGIN:VTIMEZONE
TZID:Europe/Berlin
X-LIC-LOCATION:Europe/Berlin
BEGIN:DAYLIGHT
TZOFFSETFROM:+0100
TZOFFSETTO:+0200
TZNAME:CEST
DTSTART:19700329T020000
RRULE:FREQ=YEARLY;INTERVAL=1;BYDAY=-1SU;BYMONTH=3
END:DAYLIGHT
BEGIN:STANDARD
TZOFFSETFROM:+0200
TZOFFSETTO:+0100
TZNAME:CET
DTSTART:19701025T030000
RRULE:FREQ=YEARLY;INTERVAL=1;BYDAY=-1SU;BYMONTH=10
END:STANDARD
END:VTIMEZONE
BEGIN:VEVENT
DTSTAMP:20260421T104336
DTSTART;TZID=Europe/Berlin:20260914T190000
DTEND;TZID=Europe/Berlin:20260914T203000
UID:26220926B-20260914T190000@VHSOSTKREIS HANNOVER
SUMMARY:Nähen macht Spaß (26220926B) 
LOCATION:Burgdorf, VHS-Räume, Werkraum, Bergstr. 4-6, 31303 Burgdorf
END:VEVENT
BEGIN:VEVENT
DTSTAMP:20260421T104336
DTSTART;TZID=Europe/Berlin:20260921T190000
DTEND;TZID=Europe/Berlin:20260921T213000
UID:26220926B-20260921T190000@VHSOSTKREIS HANNOVER
SUMMARY:Nähen macht Spaß (26220926B) 
LOCATION:Burgdorf, VHS-Räume, Werkraum, Bergstr. 4-6, 31303 Burgdorf
END:VEVENT
BEGIN:VEVENT
DTSTAMP:20260421T104336
DTSTART;TZID=Europe/Berlin:20260928T190000
DTEND;TZID=Europe/Berlin:20260928T213000
UID:26220926B-20260928T190000@VHSOSTKREIS HANNOVER
SUMMARY:Nähen macht Spaß (26220926B) 
LOCATION:Burgdorf, VHS-Räume, Werkraum, Bergstr. 4-6, 31303 Burgdorf
END:VEVENT
BEGIN:VEVENT
DTSTAMP:20260421T104336
DTSTART;TZID=Europe/Berlin:20261005T190000
DTEND;TZID=Europe/Berlin:20261005T213000
UID:26220926B-20261005T190000@VHSOSTKREIS HANNOVER
SUMMARY:Nähen macht Spaß (26220926B) 
LOCATION:Burgdorf, VHS-Räume, Werkraum, Bergstr. 4-6, 31303 Burgdorf
END:VEVENT
BEGIN:VEVENT
DTSTAMP:20260421T104336
DTSTART;TZID=Europe/Berlin:20261012T190000
DTEND;TZID=Europe/Berlin:20261012T213000
UID:26220926B-20261012T190000@VHSOSTKREIS HANNOVER
SUMMARY:Nähen macht Spaß (26220926B) 
LOCATION:Burgdorf, VHS-Räume, Werkraum, Bergstr. 4-6, 31303 Burgdorf
END:VEVENT
BEGIN:VEVENT
DTSTAMP:20260421T104336
DTSTART;TZID=Europe/Berlin:20261026T190000
DTEND;TZID=Europe/Berlin:20261026T213000
UID:26220926B-20261026T190000@VHSOSTKREIS HANNOVER
SUMMARY:Nähen macht Spaß (26220926B) 
LOCATION:Burgdorf, VHS-Räume, Werkraum, Bergstr. 4-6, 31303 Burgdorf
END:VEVENT
BEGIN:VEVENT
DTSTAMP:20260421T104336
DTSTART;TZID=Europe/Berlin:20261102T190000
DTEND;TZID=Europe/Berlin:20261102T213000
UID:26220926B-20261102T190000@VHSOSTKREIS HANNOVER
SUMMARY:Nähen macht Spaß (26220926B) 
LOCATION:Burgdorf, VHS-Räume, Werkraum, Bergstr. 4-6, 31303 Burgdorf
END:VEVENT
BEGIN:VEVENT
DTSTAMP:20260421T104336
DTSTART;TZID=Europe/Berlin:20261109T190000
DTEND;TZID=Europe/Berlin:20261109T213000
UID:26220926B-20261109T190000@VHSOSTKREIS HANNOVER
SUMMARY:Nähen macht Spaß (26220926B) 
LOCATION:Burgdorf, VHS-Räume, Werkraum, Bergstr. 4-6, 31303 Burgdorf
END:VEVENT
END:VCALENDAR