BEGIN:VCALENDAR
VERSION:2.0
PRODID:https://www.kufer.de/kuferweb / DE
METHOD:PUBLISH
CALSCALE:GREGORIAN
X-WR-TIMEZONE:Europe/Berlin
BEGIN:VTIMEZONE
TZID:Europe/Berlin
X-LIC-LOCATION:Europe/Berlin
BEGIN:DAYLIGHT
TZOFFSETFROM:+0100
TZOFFSETTO:+0200
TZNAME:CEST
DTSTART:19700329T020000
RRULE:FREQ=YEARLY;INTERVAL=1;BYDAY=-1SU;BYMONTH=3
END:DAYLIGHT
BEGIN:STANDARD
TZOFFSETFROM:+0200
TZOFFSETTO:+0100
TZNAME:CET
DTSTART:19701025T030000
RRULE:FREQ=YEARLY;INTERVAL=1;BYDAY=-1SU;BYMONTH=10
END:STANDARD
END:VTIMEZONE
BEGIN:VEVENT
DTSTAMP:20260421T122617
DTSTART;TZID=Europe/Berlin:20260911T110000
DTEND;TZID=Europe/Berlin:20260911T121500
UID:26230156U-20260911T110000@VHSOSTKREIS HANNOVER
SUMMARY:NEU! Sanftes Yoga  - für Einsteiger/innen (26230156U) 
LOCATION:Uetze, VHS-Gebäude, Bewegungsraum, Burgdorfer Str. 15, 31311 Uetze
END:VEVENT
BEGIN:VEVENT
DTSTAMP:20260421T122617
DTSTART;TZID=Europe/Berlin:20260918T110000
DTEND;TZID=Europe/Berlin:20260918T121500
UID:26230156U-20260918T110000@VHSOSTKREIS HANNOVER
SUMMARY:NEU! Sanftes Yoga  - für Einsteiger/innen (26230156U) 
LOCATION:Uetze, VHS-Gebäude, Bewegungsraum, Burgdorfer Str. 15, 31311 Uetze
END:VEVENT
BEGIN:VEVENT
DTSTAMP:20260421T122617
DTSTART;TZID=Europe/Berlin:20260925T110000
DTEND;TZID=Europe/Berlin:20260925T121500
UID:26230156U-20260925T110000@VHSOSTKREIS HANNOVER
SUMMARY:NEU! Sanftes Yoga  - für Einsteiger/innen (26230156U) 
LOCATION:Uetze, VHS-Gebäude, Bewegungsraum, Burgdorfer Str. 15, 31311 Uetze
END:VEVENT
BEGIN:VEVENT
DTSTAMP:20260421T122617
DTSTART;TZID=Europe/Berlin:20261002T110000
DTEND;TZID=Europe/Berlin:20261002T121500
UID:26230156U-20261002T110000@VHSOSTKREIS HANNOVER
SUMMARY:NEU! Sanftes Yoga  - für Einsteiger/innen (26230156U) 
LOCATION:Uetze, VHS-Gebäude, Bewegungsraum, Burgdorfer Str. 15, 31311 Uetze
END:VEVENT
BEGIN:VEVENT
DTSTAMP:20260421T122617
DTSTART;TZID=Europe/Berlin:20261009T110000
DTEND;TZID=Europe/Berlin:20261009T121500
UID:26230156U-20261009T110000@VHSOSTKREIS HANNOVER
SUMMARY:NEU! Sanftes Yoga  - für Einsteiger/innen (26230156U) 
LOCATION:Uetze, VHS-Gebäude, Bewegungsraum, Burgdorfer Str. 15, 31311 Uetze
END:VEVENT
BEGIN:VEVENT
DTSTAMP:20260421T122617
DTSTART;TZID=Europe/Berlin:20261030T110000
DTEND;TZID=Europe/Berlin:20261030T121500
UID:26230156U-20261030T110000@VHSOSTKREIS HANNOVER
SUMMARY:NEU! Sanftes Yoga  - für Einsteiger/innen (26230156U) 
LOCATION:Uetze, VHS-Gebäude, Bewegungsraum, Burgdorfer Str. 15, 31311 Uetze
END:VEVENT
END:VCALENDAR