BEGIN:VCALENDAR
VERSION:2.0
PRODID:https://www.kufer.de/kuferweb / DE
METHOD:PUBLISH
CALSCALE:GREGORIAN
X-WR-TIMEZONE:Europe/Berlin
BEGIN:VTIMEZONE
TZID:Europe/Berlin
X-LIC-LOCATION:Europe/Berlin
BEGIN:DAYLIGHT
TZOFFSETFROM:+0100
TZOFFSETTO:+0200
TZNAME:CEST
DTSTART:19700329T020000
RRULE:FREQ=YEARLY;INTERVAL=1;BYDAY=-1SU;BYMONTH=3
END:DAYLIGHT
BEGIN:STANDARD
TZOFFSETFROM:+0200
TZOFFSETTO:+0100
TZNAME:CET
DTSTART:19701025T030000
RRULE:FREQ=YEARLY;INTERVAL=1;BYDAY=-1SU;BYMONTH=10
END:STANDARD
END:VTIMEZONE
BEGIN:VEVENT
DTSTAMP:20260420T144307
DTSTART;TZID=Europe/Berlin:20260825T093000
DTEND;TZID=Europe/Berlin:20260825T103000
UID:26230235B-20260825T093000@VHSOSTKREIS HANNOVER
SUMMARY:Ausgleichsgymnastik (26230235B) 
LOCATION:Burgdorf, VHS-Räume, Gymnastikraum, Bergstr. 4-6, 31303 Burgdorf
END:VEVENT
BEGIN:VEVENT
DTSTAMP:20260420T144307
DTSTART;TZID=Europe/Berlin:20260901T093000
DTEND;TZID=Europe/Berlin:20260901T103000
UID:26230235B-20260901T093000@VHSOSTKREIS HANNOVER
SUMMARY:Ausgleichsgymnastik (26230235B) 
LOCATION:Burgdorf, VHS-Räume, Gymnastikraum, Bergstr. 4-6, 31303 Burgdorf
END:VEVENT
BEGIN:VEVENT
DTSTAMP:20260420T144307
DTSTART;TZID=Europe/Berlin:20260908T093000
DTEND;TZID=Europe/Berlin:20260908T103000
UID:26230235B-20260908T093000@VHSOSTKREIS HANNOVER
SUMMARY:Ausgleichsgymnastik (26230235B) 
LOCATION:Burgdorf, VHS-Räume, Gymnastikraum, Bergstr. 4-6, 31303 Burgdorf
END:VEVENT
BEGIN:VEVENT
DTSTAMP:20260420T144307
DTSTART;TZID=Europe/Berlin:20260915T093000
DTEND;TZID=Europe/Berlin:20260915T103000
UID:26230235B-20260915T093000@VHSOSTKREIS HANNOVER
SUMMARY:Ausgleichsgymnastik (26230235B) 
LOCATION:Burgdorf, VHS-Räume, Gymnastikraum, Bergstr. 4-6, 31303 Burgdorf
END:VEVENT
BEGIN:VEVENT
DTSTAMP:20260420T144307
DTSTART;TZID=Europe/Berlin:20260922T093000
DTEND;TZID=Europe/Berlin:20260922T103000
UID:26230235B-20260922T093000@VHSOSTKREIS HANNOVER
SUMMARY:Ausgleichsgymnastik (26230235B) 
LOCATION:Burgdorf, VHS-Räume, Gymnastikraum, Bergstr. 4-6, 31303 Burgdorf
END:VEVENT
BEGIN:VEVENT
DTSTAMP:20260420T144307
DTSTART;TZID=Europe/Berlin:20260929T093000
DTEND;TZID=Europe/Berlin:20260929T103000
UID:26230235B-20260929T093000@VHSOSTKREIS HANNOVER
SUMMARY:Ausgleichsgymnastik (26230235B) 
LOCATION:Burgdorf, VHS-Räume, Gymnastikraum, Bergstr. 4-6, 31303 Burgdorf
END:VEVENT
BEGIN:VEVENT
DTSTAMP:20260420T144307
DTSTART;TZID=Europe/Berlin:20261006T093000
DTEND;TZID=Europe/Berlin:20261006T103000
UID:26230235B-20261006T093000@VHSOSTKREIS HANNOVER
SUMMARY:Ausgleichsgymnastik (26230235B) 
LOCATION:Burgdorf, VHS-Räume, Gymnastikraum, Bergstr. 4-6, 31303 Burgdorf
END:VEVENT
BEGIN:VEVENT
DTSTAMP:20260420T144307
DTSTART;TZID=Europe/Berlin:20261027T093000
DTEND;TZID=Europe/Berlin:20261027T103000
UID:26230235B-20261027T093000@VHSOSTKREIS HANNOVER
SUMMARY:Ausgleichsgymnastik (26230235B) 
LOCATION:Burgdorf, VHS-Räume, Gymnastikraum, Bergstr. 4-6, 31303 Burgdorf
END:VEVENT
BEGIN:VEVENT
DTSTAMP:20260420T144307
DTSTART;TZID=Europe/Berlin:20261103T093000
DTEND;TZID=Europe/Berlin:20261103T103000
UID:26230235B-20261103T093000@VHSOSTKREIS HANNOVER
SUMMARY:Ausgleichsgymnastik (26230235B) 
LOCATION:Burgdorf, VHS-Räume, Gymnastikraum, Bergstr. 4-6, 31303 Burgdorf
END:VEVENT
BEGIN:VEVENT
DTSTAMP:20260420T144307
DTSTART;TZID=Europe/Berlin:20261110T093000
DTEND;TZID=Europe/Berlin:20261110T103000
UID:26230235B-20261110T093000@VHSOSTKREIS HANNOVER
SUMMARY:Ausgleichsgymnastik (26230235B) 
LOCATION:Burgdorf, VHS-Räume, Gymnastikraum, Bergstr. 4-6, 31303 Burgdorf
END:VEVENT
BEGIN:VEVENT
DTSTAMP:20260420T144307
DTSTART;TZID=Europe/Berlin:20261117T093000
DTEND;TZID=Europe/Berlin:20261117T103000
UID:26230235B-20261117T093000@VHSOSTKREIS HANNOVER
SUMMARY:Ausgleichsgymnastik (26230235B) 
LOCATION:Burgdorf, VHS-Räume, Gymnastikraum, Bergstr. 4-6, 31303 Burgdorf
END:VEVENT
BEGIN:VEVENT
DTSTAMP:20260420T144307
DTSTART;TZID=Europe/Berlin:20261124T093000
DTEND;TZID=Europe/Berlin:20261124T103000
UID:26230235B-20261124T093000@VHSOSTKREIS HANNOVER
SUMMARY:Ausgleichsgymnastik (26230235B) 
LOCATION:Burgdorf, VHS-Räume, Gymnastikraum, Bergstr. 4-6, 31303 Burgdorf
END:VEVENT
BEGIN:VEVENT
DTSTAMP:20260420T144307
DTSTART;TZID=Europe/Berlin:20261201T093000
DTEND;TZID=Europe/Berlin:20261201T103000
UID:26230235B-20261201T093000@VHSOSTKREIS HANNOVER
SUMMARY:Ausgleichsgymnastik (26230235B) 
LOCATION:Burgdorf, VHS-Räume, Gymnastikraum, Bergstr. 4-6, 31303 Burgdorf
END:VEVENT
BEGIN:VEVENT
DTSTAMP:20260420T144307
DTSTART;TZID=Europe/Berlin:20261208T093000
DTEND;TZID=Europe/Berlin:20261208T103000
UID:26230235B-20261208T093000@VHSOSTKREIS HANNOVER
SUMMARY:Ausgleichsgymnastik (26230235B) 
LOCATION:Burgdorf, VHS-Räume, Gymnastikraum, Bergstr. 4-6, 31303 Burgdorf
END:VEVENT
BEGIN:VEVENT
DTSTAMP:20260420T144307
DTSTART;TZID=Europe/Berlin:20261215T093000
DTEND;TZID=Europe/Berlin:20261215T103000
UID:26230235B-20261215T093000@VHSOSTKREIS HANNOVER
SUMMARY:Ausgleichsgymnastik (26230235B) 
LOCATION:Burgdorf, VHS-Räume, Gymnastikraum, Bergstr. 4-6, 31303 Burgdorf
END:VEVENT
BEGIN:VEVENT
DTSTAMP:20260420T144307
DTSTART;TZID=Europe/Berlin:20270112T093000
DTEND;TZID=Europe/Berlin:20270112T103000
UID:26230235B-20270112T093000@VHSOSTKREIS HANNOVER
SUMMARY:Ausgleichsgymnastik (26230235B) 
LOCATION:Burgdorf, VHS-Räume, Gymnastikraum, Bergstr. 4-6, 31303 Burgdorf
END:VEVENT
BEGIN:VEVENT
DTSTAMP:20260420T144307
DTSTART;TZID=Europe/Berlin:20270119T093000
DTEND;TZID=Europe/Berlin:20270119T103000
UID:26230235B-20270119T093000@VHSOSTKREIS HANNOVER
SUMMARY:Ausgleichsgymnastik (26230235B) 
LOCATION:Burgdorf, VHS-Räume, Gymnastikraum, Bergstr. 4-6, 31303 Burgdorf
END:VEVENT
BEGIN:VEVENT
DTSTAMP:20260420T144307
DTSTART;TZID=Europe/Berlin:20270126T093000
DTEND;TZID=Europe/Berlin:20270126T103000
UID:26230235B-20270126T093000@VHSOSTKREIS HANNOVER
SUMMARY:Ausgleichsgymnastik (26230235B) 
LOCATION:Burgdorf, VHS-Räume, Gymnastikraum, Bergstr. 4-6, 31303 Burgdorf
END:VEVENT
END:VCALENDAR